BEGIN:VCALENDAR
VERSION:2.0
PRODID:-//ASV Winsen / Aller - ECPv5.8.0//NONSGML v1.0//EN
CALSCALE:GREGORIAN
METHOD:PUBLISH
X-WR-CALNAME:ASV Winsen / Aller
X-ORIGINAL-URL:http://asvwinsen.de
X-WR-CALDESC:Veranstaltungen für ASV Winsen / Aller
BEGIN:VTIMEZONE
TZID:Europe/Berlin
BEGIN:DAYLIGHT
TZOFFSETFROM:+0100
TZOFFSETTO:+0200
TZNAME:CEST
DTSTART:20260329T010000
END:DAYLIGHT
BEGIN:STANDARD
TZOFFSETFROM:+0200
TZOFFSETTO:+0100
TZNAME:CET
DTSTART:20261025T010000
END:STANDARD
END:VTIMEZONE
BEGIN:VEVENT
DTSTART;VALUE=DATE:20260904
DTEND;VALUE=DATE:20260915
DTSTAMP:20260420T201854
CREATED:20260129T100333Z
LAST-MODIFIED:20260129T110910Z
UID:2989-1788487200-1789351199@asvwinsen.de
SUMMARY:Teich IV gesperrt!
DESCRIPTION:
URL:http://asvwinsen.de/termine/teich-iv-gesperrt/
LOCATION:Kalker Teich 4
CATEGORIES:Erwachsene,Jugendgruppe,Unser Verein
ATTACH;FMTTYPE=image/jpeg:http://asvwinsen.de/wp-content/uploads/2016/03/Kalka.jpg
ORGANIZER;CN="ASV%20Winsen%20%2F%20Aller":MAILTO:info@asvwinsen.de
END:VEVENT
END:VCALENDAR