BEGIN:VCALENDAR
VERSION:2.0
PRODID:-//ASV Winsen / Aller - ECPv5.8.0//NONSGML v1.0//EN
CALSCALE:GREGORIAN
METHOD:PUBLISH
X-WR-CALNAME:ASV Winsen / Aller
X-ORIGINAL-URL:http://asvwinsen.de
X-WR-CALDESC:Veranstaltungen für ASV Winsen / Aller
BEGIN:VTIMEZONE
TZID:Europe/Berlin
BEGIN:DAYLIGHT
TZOFFSETFROM:+0100
TZOFFSETTO:+0200
TZNAME:CEST
DTSTART:20260329T010000
END:DAYLIGHT
BEGIN:STANDARD
TZOFFSETFROM:+0200
TZOFFSETTO:+0100
TZNAME:CET
DTSTART:20261025T010000
END:STANDARD
END:VTIMEZONE
BEGIN:VEVENT
DTSTART;VALUE=DATE:20260412
DTEND;VALUE=DATE:20260414
DTSTAMP:20260420T132946
CREATED:20260110T124915Z
LAST-MODIFIED:20260110T125536Z
UID:3990-1775959200-1776045599@asvwinsen.de
SUMMARY:Hegebestandskontrollfischen (Anmeldung beim Obmann des Hegekontrollfischens)
DESCRIPTION:Kontakt über 0173/6333831
URL:http://asvwinsen.de/termine/hegebestandskontrollfischen-anmeldung-beim-obmann-des-hegekontrollfischens/
LOCATION:Aller / Kalker nach Notwendigkeit\, Deutschland
CATEGORIES:Erwachsene,Unser Verein
ATTACH;FMTTYPE=image/jpeg:http://asvwinsen.de/wp-content/uploads/2020/03/ASV-Logo-klein.jpg
ORGANIZER;CN="ASV%20Winsen%20%2F%20Aller":MAILTO:info@asvwinsen.de
END:VEVENT
END:VCALENDAR